BEGIN:VCALENDAR
VERSION:2.0
CALSCALE:GREGORIAN
PRODID:-//WordPress//RSVPMaker//EN
METHOD:REQUEST
BEGIN:VEVENT
DTSTAMP:20260424T223225Z
UID:4B2AE7D938D2EDC52EE760535F0003E2@rsvpmaker.com
SEQUENCE:0
STATUS:CONFIRMED
DTSTART:20230319T070000Z
DTEND:20230319T190000Z
LOCATION:See\: https\://dungeonsandtoast.com/rsvpmaker/thats-debatable
 -club-raid-2023-03-19/
SUMMARY:That's Debatable Club Raid
DESCRIPTION:Event info\: https\://dungeonsandtoast.com/rsvpmaker/thats
 -debatable-club-raid-2023-03-19/
END:VEVENT
END:VCALENDAR