BEGIN:VCALENDAR
VERSION:2.0
CALSCALE:GREGORIAN
PRODID:-//WordPress//RSVPMaker//EN
METHOD:REQUEST
BEGIN:VEVENT
DTSTAMP:20260425T124914Z
UID:064E3A5648FB4A7F911155BD81F87FD2@rsvpmaker.com
SEQUENCE:0
STATUS:CONFIRMED
DTSTART:20251122T030000Z
DTEND:20251122T040000Z
LOCATION:See\: https\://dungeonsandtoast.com/rsvpmaker/tall-tales-spee
 ch-contest-2025-11-21/
SUMMARY:Tall Tales Speech Contest
DESCRIPTION:Event info\: https\://dungeonsandtoast.com/rsvpmaker/tall-
 tales-speech-contest-2025-11-21/
END:VEVENT
END:VCALENDAR