BEGIN:VCALENDAR
VERSION:2.0
CALSCALE:GREGORIAN
PRODID:-//WordPress//RSVPMaker//EN
METHOD:REQUEST
BEGIN:VEVENT
DTSTAMP:20260425T172848Z
UID:A3FEFE83288ECB0E40EBE40B2BDE29FE@rsvpmaker.com
SEQUENCE:0
STATUS:CONFIRMED
DTSTART:20230929T020000Z
DTEND:20230929T030000Z
LOCATION:See\: https\://dungeonsandtoast.com/rsvpmaker/raid/
SUMMARY:Raid
DESCRIPTION:Event info\: https\://dungeonsandtoast.com/rsvpmaker/raid/
END:VEVENT
END:VCALENDAR