BEGIN:VCALENDAR
VERSION:2.0
CALSCALE:GREGORIAN
PRODID:-//WordPress//RSVPMaker//EN
METHOD:REQUEST
BEGIN:VEVENT
DTSTAMP:20260424T210104Z
UID:492114F6915A69AA3DD005AA4233EF51@rsvpmaker.com
SEQUENCE:0
STATUS:CONFIRMED
DTSTART:20220908T013000Z
DTEND:20220908T030000Z
LOCATION:See\: https\://dungeonsandtoast.com/rsvpmaker/raid-of-the-bre
 wmeisters-toastmasters-club-2022-09-07/
SUMMARY:Raid of the Brewmeisters Toastmasters Club
DESCRIPTION:Event info\: https\://dungeonsandtoast.com/rsvpmaker/raid-
 of-the-brewmeisters-toastmasters-club-2022-09-07/
END:VEVENT
END:VCALENDAR