BEGIN:VCALENDAR
VERSION:2.0
CALSCALE:GREGORIAN
PRODID:-//WordPress//RSVPMaker//EN
METHOD:REQUEST
BEGIN:VEVENT
DTSTAMP:20260424T091742Z
UID:9AE0A504E3AF13E2E6B3FF478A8F637B@rsvpmaker.com
SEQUENCE:0
STATUS:CONFIRMED
DTSTART:20230124T070000Z
DTEND:20230124T080000Z
LOCATION:See\: https\://dungeonsandtoast.com/rsvpmaker/raid-of-nerdmas
 ters-2023-01-23/
SUMMARY:Raid of ToastmastNERDS
DESCRIPTION:Event info\: https\://dungeonsandtoast.com/rsvpmaker/raid-
 of-nerdmasters-2023-01-23/
END:VEVENT
END:VCALENDAR