BEGIN:VCALENDAR
VERSION:2.0
CALSCALE:GREGORIAN
PRODID:-//WordPress//RSVPMaker//EN
METHOD:REQUEST
BEGIN:VEVENT
DTSTAMP:20260425T124534Z
UID:B1FB3726A5A825732F9A25E210426C4A@rsvpmaker.com
SEQUENCE:0
STATUS:CONFIRMED
DTSTART:20251212T023000Z
DTEND:20251212T033000Z
LOCATION:See\: https\://dungeonsandtoast.com/rsvpmaker/raid-4/
SUMMARY:Raid
DESCRIPTION:Event info\: https\://dungeonsandtoast.com/rsvpmaker/raid-
 4/
END:VEVENT
END:VCALENDAR