BEGIN:VCALENDAR
VERSION:2.0
CALSCALE:GREGORIAN
PRODID:-//WordPress//RSVPMaker//EN
METHOD:REQUEST
BEGIN:VEVENT
DTSTAMP:20260425T000719Z
UID:09EB27DEC1A45D92F229228204EA7201@rsvpmaker.com
SEQUENCE:0
STATUS:CONFIRMED
DTSTART:20230325T070000Z
DTEND:20230325T190000Z
LOCATION:See\: https\://dungeonsandtoast.com/rsvpmaker/raid-2023-03-25
 /
SUMMARY:Raid of D100 Division G Speech Contests
DESCRIPTION:Event info\: https\://dungeonsandtoast.com/rsvpmaker/raid-
 2023-03-25/
END:VEVENT
END:VCALENDAR