BEGIN:VCALENDAR
VERSION:2.0
CALSCALE:GREGORIAN
PRODID:-//WordPress//RSVPMaker//EN
METHOD:REQUEST
BEGIN:VEVENT
DTSTAMP:20260424T140617Z
UID:27DEBB435021EB68B3965290B5E24C49@rsvpmaker.com
SEQUENCE:0
STATUS:CONFIRMED
DTSTART:20230220T024500Z
DTEND:20230220T034500Z
LOCATION:See\: https\://dungeonsandtoast.com/rsvpmaker/raid-2023-02-19
 /
SUMMARY:Raid
DESCRIPTION:Event info\: https\://dungeonsandtoast.com/rsvpmaker/raid-
 2023-02-19/
END:VEVENT
END:VCALENDAR