BEGIN:VCALENDAR
VERSION:2.0
CALSCALE:GREGORIAN
PRODID:-//WordPress//RSVPMaker//EN
METHOD:REQUEST
BEGIN:VEVENT
DTSTAMP:20260423T234050Z
UID:565E8A413D0562DE9EE4378402D2B481@rsvpmaker.com
SEQUENCE:0
STATUS:CONFIRMED
DTSTART:20221208T030000Z
DTEND:20221208T070000Z
LOCATION:See\: https\://dungeonsandtoast.com/rsvpmaker/patricks-encore
 -manticore-game-2022-12-07/
SUMMARY:Escape from Daggerford (Encore)
DESCRIPTION:Event info\: https\://dungeonsandtoast.com/rsvpmaker/patri
 cks-encore-manticore-game-2022-12-07/
END:VEVENT
END:VCALENDAR