BEGIN:VCALENDAR
VERSION:2.0
CALSCALE:GREGORIAN
PRODID:-//WordPress//RSVPMaker//EN
METHOD:REQUEST
BEGIN:VEVENT
DTSTAMP:20260425T142813Z
UID:BC37E109D92BDC1EA71DA6C919D54907@rsvpmaker.com
SEQUENCE:0
STATUS:CONFIRMED
DTSTART:20230920T230000Z
DTEND:20230921T000000Z
LOCATION:See\: https\://dungeonsandtoast.com/rsvpmaker/oceanus-2023-09
 -20/
SUMMARY:Oceanus
DESCRIPTION:Event info\: https\://dungeonsandtoast.com/rsvpmaker/ocean
 us-2023-09-20/
END:VEVENT
END:VCALENDAR