BEGIN:VCALENDAR
VERSION:2.0
CALSCALE:GREGORIAN
PRODID:-//WordPress//RSVPMaker//EN
METHOD:REQUEST
BEGIN:VEVENT
DTSTAMP:20260424T094144Z
UID:A41B3BB3E6B050B6C9067C67F663B915@rsvpmaker.com
SEQUENCE:0
STATUS:CONFIRMED
DTSTART:20220305T030000Z
DTEND:20220305T043000Z
LOCATION:See\: https\://dungeonsandtoast.com/rsvpmaker/mock-speech-con
 test/
SUMMARY:2022 D&T Verbal Joust
DESCRIPTION:Event info\: https\://dungeonsandtoast.com/rsvpmaker/mock-
 speech-contest/
END:VEVENT
END:VCALENDAR