BEGIN:VCALENDAR
VERSION:2.0
CALSCALE:GREGORIAN
PRODID:-//WordPress//RSVPMaker//EN
METHOD:REQUEST
BEGIN:VEVENT
DTSTAMP:20260425T031922Z
UID:49E863B146F3B5470EE222EE84669B1C@rsvpmaker.com
SEQUENCE:0
STATUS:CONFIRMED
DTSTART:20230404T020000Z
DTEND:20230409T060000Z
LOCATION:See\: https\://dungeonsandtoast.com/rsvpmaker/memories-and-ni
 ghtmares-encore-2023-04-08/
SUMMARY:Memories and Nightmares (Encore)
DESCRIPTION:Event info\: https\://dungeonsandtoast.com/rsvpmaker/memor
 ies-and-nightmares-encore-2023-04-08/
END:VEVENT
END:VCALENDAR