BEGIN:VCALENDAR
VERSION:2.0
CALSCALE:GREGORIAN
PRODID:-//WordPress//RSVPMaker//EN
METHOD:REQUEST
BEGIN:VEVENT
DTSTAMP:20260425T124721Z
UID:C061ABE12B79FFB077E88ECF5E4BCF01@rsvpmaker.com
SEQUENCE:0
STATUS:CONFIRMED
DTSTART:20230622T220000Z
DTEND:20230623T013000Z
LOCATION:See\: https\://dungeonsandtoast.com/rsvpmaker/manticore-final
 e-encore/
SUMMARY:Manticore Finale - Encore
DESCRIPTION:Event info\: https\://dungeonsandtoast.com/rsvpmaker/manti
 core-finale-encore/
END:VEVENT
END:VCALENDAR