BEGIN:VCALENDAR
VERSION:2.0
CALSCALE:GREGORIAN
PRODID:-//WordPress//RSVPMaker//EN
METHOD:REQUEST
BEGIN:VEVENT
DTSTAMP:20260424T191604Z
UID:250B164D84EA39A488422DA8500786E6@rsvpmaker.com
SEQUENCE:0
STATUS:CONFIRMED
DTSTART:20220823T010000Z
DTEND:20220823T040000Z
LOCATION:See\: https\://dungeonsandtoast.com/rsvpmaker/lost-things-enc
 ore-session-2022-08-22/
SUMMARY:Lost Things (Encore Session)
DESCRIPTION:Event info\: https\://dungeonsandtoast.com/rsvpmaker/lost-
 things-encore-session-2022-08-22/
END:VEVENT
END:VCALENDAR