BEGIN:VCALENDAR
VERSION:2.0
CALSCALE:GREGORIAN
PRODID:-//WordPress//RSVPMaker//EN
METHOD:REQUEST
BEGIN:VEVENT
DTSTAMP:20260424T055902Z
UID:D582AC40970F9885836A61D7B2C662E4@rsvpmaker.com
SEQUENCE:0
STATUS:CONFIRMED
DTSTART:20221231T030000Z
DTEND:20221231T070000Z
LOCATION:See\: https\://dungeonsandtoast.com/rsvpmaker/holiday-one-sho
 t-2022/
SUMMARY:In the Nick of Time
DESCRIPTION:Event info\: https\://dungeonsandtoast.com/rsvpmaker/holid
 ay-one-shot-2022/
END:VEVENT
END:VCALENDAR