BEGIN:VCALENDAR
VERSION:2.0
CALSCALE:GREGORIAN
PRODID:-//WordPress//RSVPMaker//EN
METHOD:REQUEST
BEGIN:VEVENT
DTSTAMP:20260425T235434Z
UID:CD6CE2F9CB75D8F41DC96D3C0B8952B9@rsvpmaker.com
SEQUENCE:0
STATUS:CONFIRMED
DTSTART:20231011T230000Z
DTEND:20231012T000000Z
LOCATION:See\: https\://dungeonsandtoast.com/rsvpmaker/harengon-game-n
 ight-et-ct/
SUMMARY:Harengon Game Night (ET/CT)
DESCRIPTION:Event info\: https\://dungeonsandtoast.com/rsvpmaker/haren
 gon-game-night-et-ct/
END:VEVENT
END:VCALENDAR