BEGIN:VCALENDAR
VERSION:2.0
CALSCALE:GREGORIAN
PRODID:-//WordPress//RSVPMaker//EN
METHOD:REQUEST
BEGIN:VEVENT
DTSTAMP:20260426T041922Z
UID:1E65040D77567934E4FFED55C656A3CC@rsvpmaker.com
SEQUENCE:0
STATUS:CONFIRMED
DTSTART:20231026T010000Z
DTEND:20231026T020000Z
LOCATION:See\: https\://dungeonsandtoast.com/rsvpmaker/game-night/
SUMMARY:Harengon Game Night
DESCRIPTION:Event info\: https\://dungeonsandtoast.com/rsvpmaker/game-
 night/
END:VEVENT
END:VCALENDAR