BEGIN:VCALENDAR
VERSION:2.0
CALSCALE:GREGORIAN
PRODID:-//WordPress//RSVPMaker//EN
METHOD:REQUEST
BEGIN:VEVENT
DTSTAMP:20260425T110253Z
UID:043EA4EB48D314B91E95FB5052D3D8F0@rsvpmaker.com
SEQUENCE:0
STATUS:CONFIRMED
DTSTART:20260225T230000Z
DTEND:20260226T030000Z
LOCATION:See\: https\://dungeonsandtoast.com/rsvpmaker/game-night-year
 -of-the-dragon-finale-2026-02-25/
SUMMARY:Game Night - Year of the Dragon Finale
DESCRIPTION:Event info\: https\://dungeonsandtoast.com/rsvpmaker/game-
 night-year-of-the-dragon-finale-2026-02-25/
END:VEVENT
END:VCALENDAR