BEGIN:VCALENDAR
VERSION:2.0
CALSCALE:GREGORIAN
PRODID:-//WordPress//RSVPMaker//EN
METHOD:REQUEST
BEGIN:VEVENT
DTSTAMP:20260426T001502Z
UID:1CA4DFFD6CB96DFE66F1A044D3BB7CFB@rsvpmaker.com
SEQUENCE:0
STATUS:CONFIRMED
DTSTART:20250610T220000Z
DTEND:20250611T020000Z
LOCATION:See\: https\://dungeonsandtoast.com/rsvpmaker/game-night-take
 -tea/
SUMMARY:Game Night - Take Tea
DESCRIPTION:Event info\: https\://dungeonsandtoast.com/rsvpmaker/game-
 night-take-tea/
END:VEVENT
END:VCALENDAR