BEGIN:VCALENDAR
VERSION:2.0
CALSCALE:GREGORIAN
PRODID:-//WordPress//RSVPMaker//EN
METHOD:REQUEST
BEGIN:VEVENT
DTSTAMP:20260424T105109Z
UID:161882DD2D19C716819081AEE2C08B98@rsvpmaker.com
SEQUENCE:0
STATUS:CONFIRMED
DTSTART:20230128T020000Z
DTEND:20230128T060000Z
LOCATION:See\: https\://dungeonsandtoast.com/rsvpmaker/game-night-pt-t
 rack-2023-01-27/
SUMMARY:Found Things
DESCRIPTION:Event info\: https\://dungeonsandtoast.com/rsvpmaker/game-
 night-pt-track-2023-01-27/
END:VEVENT
END:VCALENDAR