BEGIN:VCALENDAR
VERSION:2.0
CALSCALE:GREGORIAN
PRODID:-//WordPress//RSVPMaker//EN
METHOD:REQUEST
BEGIN:VEVENT
DTSTAMP:20260424T073307Z
UID:281715CAFA675BF359EBAA42CB44FA17@rsvpmaker.com
SEQUENCE:0
STATUS:CONFIRMED
DTSTART:20230112T023000Z
DTEND:20230112T070000Z
LOCATION:See\: https\://dungeonsandtoast.com/rsvpmaker/game-night-pt-t
 rack-2023-01-11/
SUMMARY:In the Nick of Time (Part 2)
DESCRIPTION:Event info\: https\://dungeonsandtoast.com/rsvpmaker/game-
 night-pt-track-2023-01-11/
END:VEVENT
END:VCALENDAR