BEGIN:VCALENDAR
VERSION:2.0
CALSCALE:GREGORIAN
PRODID:-//WordPress//RSVPMaker//EN
METHOD:REQUEST
BEGIN:VEVENT
DTSTAMP:20260424T024624Z
UID:D28D76B4592325C3BAFC1840D4BB2957@rsvpmaker.com
SEQUENCE:0
STATUS:CONFIRMED
DTSTART:20221115T020000Z
DTEND:20221115T070000Z
LOCATION:See\: https\://dungeonsandtoast.com/rsvpmaker/game-night-pt-t
 rack-2022-11-14/
SUMMARY:Escape from Daggerford
DESCRIPTION:Event info\: https\://dungeonsandtoast.com/rsvpmaker/game-
 night-pt-track-2022-11-14/
END:VEVENT
END:VCALENDAR