BEGIN:VCALENDAR
VERSION:2.0
CALSCALE:GREGORIAN
PRODID:-//WordPress//RSVPMaker//EN
METHOD:REQUEST
BEGIN:VEVENT
DTSTAMP:20260424T173751Z
UID:63C4B1BAF3B4460FA9936B1A20919BEC@rsvpmaker.com
SEQUENCE:0
STATUS:CONFIRMED
DTSTART:20220730T020000Z
DTEND:20220730T060000Z
LOCATION:See\: https\://dungeonsandtoast.com/rsvpmaker/game-night-pt-t
 rack-2022-07-29/
SUMMARY:Game Night (PT Track)
DESCRIPTION:Event info\: https\://dungeonsandtoast.com/rsvpmaker/game-
 night-pt-track-2022-07-29/
END:VEVENT
END:VCALENDAR