BEGIN:VCALENDAR
VERSION:2.0
CALSCALE:GREGORIAN
PRODID:-//WordPress//RSVPMaker//EN
METHOD:REQUEST
BEGIN:VEVENT
DTSTAMP:20260424T012435Z
UID:B5B8C484824D8A06F4F3D570BC420313@rsvpmaker.com
SEQUENCE:0
STATUS:CONFIRMED
DTSTART:20220528T020000Z
DTEND:20220528T060000Z
LOCATION:See\: https\://dungeonsandtoast.com/rsvpmaker/game-night-pst-
 track-2022-05-27/
SUMMARY:Star Wars RPG with Brian L (PT)
DESCRIPTION:Event info\: https\://dungeonsandtoast.com/rsvpmaker/game-
 night-pst-track-2022-05-27/
END:VEVENT
END:VCALENDAR