BEGIN:VCALENDAR
VERSION:2.0
CALSCALE:GREGORIAN
PRODID:-//WordPress//RSVPMaker//EN
METHOD:REQUEST
BEGIN:VEVENT
DTSTAMP:20260424T111612Z
UID:0D9095B0D6BBE98EA0C9C02B11B59EE3@rsvpmaker.com
SEQUENCE:0
STATUS:CONFIRMED
DTSTART:20220226T030000Z
DTEND:20220226T070000Z
LOCATION:See\: https\://dungeonsandtoast.com/rsvpmaker/game-night-pst-
 track-2022-02-25/
SUMMARY:Game Night (PST Track)
DESCRIPTION:Event info\: https\://dungeonsandtoast.com/rsvpmaker/game-
 night-pst-track-2022-02-25/
END:VEVENT
END:VCALENDAR