BEGIN:VCALENDAR
VERSION:2.0
CALSCALE:GREGORIAN
PRODID:-//WordPress//RSVPMaker//EN
METHOD:REQUEST
BEGIN:VEVENT
DTSTAMP:20260424T195754Z
UID:D20BE76A86C0D71C75035FCED631F874@rsvpmaker.com
SEQUENCE:0
STATUS:CONFIRMED
DTSTART:20220129T030000Z
DTEND:20220129T070000Z
LOCATION:See\: https\://dungeonsandtoast.com/rsvpmaker/game-night-pst-
 track-2022-01-28/
SUMMARY:Game Night (PST Track)
DESCRIPTION:Event info\: https\://dungeonsandtoast.com/rsvpmaker/game-
 night-pst-track-2022-01-28/
END:VEVENT
END:VCALENDAR