BEGIN:VCALENDAR
VERSION:2.0
CALSCALE:GREGORIAN
PRODID:-//WordPress//RSVPMaker//EN
METHOD:REQUEST
BEGIN:VEVENT
DTSTAMP:20260425T124914Z
UID:807C2FA13D210319043DB7C80D7CFB00@rsvpmaker.com
SEQUENCE:0
STATUS:CONFIRMED
DTSTART:20260121T010000Z
DTEND:20260121T020000Z
LOCATION:See\: https\://dungeonsandtoast.com/rsvpmaker/game-night-nois
 y-neighbors-2026-01-20/
SUMMARY:Game Night: Noisy Neighbors
DESCRIPTION:Event info\: https\://dungeonsandtoast.com/rsvpmaker/game-
 night-noisy-neighbors-2026-01-20/
END:VEVENT
END:VCALENDAR