BEGIN:VCALENDAR
VERSION:2.0
CALSCALE:GREGORIAN
PRODID:-//WordPress//RSVPMaker//EN
METHOD:REQUEST
BEGIN:VEVENT
DTSTAMP:20260425T151130Z
UID:03DB60C2331018B18C4166C1787072FE@rsvpmaker.com
SEQUENCE:0
STATUS:CONFIRMED
DTSTART:20230608T010000Z
DTEND:20230608T020000Z
LOCATION:See\: https\://dungeonsandtoast.com/rsvpmaker/game-night-mant
 icore-finale/
SUMMARY:Game Night - Manticore Finale
DESCRIPTION:Event info\: https\://dungeonsandtoast.com/rsvpmaker/game-
 night-manticore-finale/
END:VEVENT
END:VCALENDAR