BEGIN:VCALENDAR
VERSION:2.0
CALSCALE:GREGORIAN
PRODID:-//WordPress//RSVPMaker//EN
METHOD:REQUEST
BEGIN:VEVENT
DTSTAMP:20260425T210646Z
UID:0B0EE8B71CEE482463DA696285A4DEF0@rsvpmaker.com
SEQUENCE:0
STATUS:CONFIRMED
DTSTART:20241030T000000Z
DTEND:20241030T040000Z
LOCATION:See\: https\://dungeonsandtoast.com/rsvpmaker/game-night-heir
 s-of-the-dragon/
SUMMARY:Game Night: Heirs of the Dragon
DESCRIPTION:Event info\: https\://dungeonsandtoast.com/rsvpmaker/game-
 night-heirs-of-the-dragon/
END:VEVENT
END:VCALENDAR