BEGIN:VCALENDAR
VERSION:2.0
CALSCALE:GREGORIAN
PRODID:-//WordPress//RSVPMaker//EN
METHOD:REQUEST
BEGIN:VEVENT
DTSTAMP:20260425T222139Z
UID:DCCB1C3A558C50D389C24D69A9856730@rsvpmaker.com
SEQUENCE:0
STATUS:CONFIRMED
DTSTART:20231008T010000Z
DTEND:20231008T060000Z
LOCATION:See\: https\://dungeonsandtoast.com/rsvpmaker/game-night-hare
 ngon-session-2-makeup/
SUMMARY:Game Night - Harengon Session 2 (Makeup)
DESCRIPTION:Event info\: https\://dungeonsandtoast.com/rsvpmaker/game-
 night-harengon-session-2-makeup/
END:VEVENT
END:VCALENDAR