BEGIN:VCALENDAR
VERSION:2.0
CALSCALE:GREGORIAN
PRODID:-//WordPress//RSVPMaker//EN
METHOD:REQUEST
BEGIN:VEVENT
DTSTAMP:20260424T155719Z
UID:475FBEFA9EBFBA9233364533AAFD02A3@rsvpmaker.com
SEQUENCE:0
STATUS:CONFIRMED
DTSTART:20220730T010000Z
DTEND:20220730T040000Z
LOCATION:See\: https\://dungeonsandtoast.com/rsvpmaker/game-night-et-t
 rack-2022-07-29/
SUMMARY:Lost Things
DESCRIPTION:Event info\: https\://dungeonsandtoast.com/rsvpmaker/game-
 night-et-track-2022-07-29/
END:VEVENT
END:VCALENDAR