BEGIN:VCALENDAR
VERSION:2.0
CALSCALE:GREGORIAN
PRODID:-//WordPress//RSVPMaker//EN
METHOD:REQUEST
BEGIN:VEVENT
DTSTAMP:20260424T130926Z
UID:952C3FF98A6ACDC36497D839E31AA57C@rsvpmaker.com
SEQUENCE:0
STATUS:CONFIRMED
DTSTART:20220226T010000Z
DTEND:20220226T040000Z
LOCATION:See\: https\://dungeonsandtoast.com/rsvpmaker/game-night-est-
 track-2022-02-25/
SUMMARY:Game Night (EST Track)
DESCRIPTION:Event info\: https\://dungeonsandtoast.com/rsvpmaker/game-
 night-est-track-2022-02-25/
END:VEVENT
END:VCALENDAR