BEGIN:VCALENDAR
VERSION:2.0
CALSCALE:GREGORIAN
PRODID:-//WordPress//RSVPMaker//EN
METHOD:REQUEST
BEGIN:VEVENT
DTSTAMP:20260424T213030Z
UID:D095A94D20DCAF7AA07301948549BEDE@rsvpmaker.com
SEQUENCE:0
STATUS:CONFIRMED
DTSTART:20220129T010000Z
DTEND:20220129T040000Z
LOCATION:See\: https\://dungeonsandtoast.com/rsvpmaker/game-night-est-
 track-2022-01-28/
SUMMARY:Game Night (EST Track)
DESCRIPTION:Event info\: https\://dungeonsandtoast.com/rsvpmaker/game-
 night-est-track-2022-01-28/
END:VEVENT
END:VCALENDAR