BEGIN:VCALENDAR
VERSION:2.0
CALSCALE:GREGORIAN
PRODID:-//WordPress//RSVPMaker//EN
METHOD:REQUEST
BEGIN:VEVENT
DTSTAMP:20260425T190548Z
UID:8D373A5F49B37B82596AAAADB567E6FF@rsvpmaker.com
SEQUENCE:0
STATUS:CONFIRMED
DTSTART:20251101T000000Z
DTEND:20251101T010000Z
LOCATION:See\: https\://dungeonsandtoast.com/rsvpmaker/game-night-9/
SUMMARY:Game Night
DESCRIPTION:Event info\: https\://dungeonsandtoast.com/rsvpmaker/game-
 night-9/
END:VEVENT
END:VCALENDAR