BEGIN:VCALENDAR
VERSION:2.0
CALSCALE:GREGORIAN
PRODID:-//WordPress//RSVPMaker//EN
METHOD:REQUEST
BEGIN:VEVENT
DTSTAMP:20260425T192817Z
UID:3F37C010783748F8E8577F732D74054C@rsvpmaker.com
SEQUENCE:0
STATUS:CONFIRMED
DTSTART:20250918T003000Z
DTEND:20250918T013000Z
LOCATION:See\: https\://dungeonsandtoast.com/rsvpmaker/game-night-8/
SUMMARY:Second Encore: Prophecy of the World-Eater Campaign
DESCRIPTION:Event info\: https\://dungeonsandtoast.com/rsvpmaker/game-
 night-8/
END:VEVENT
END:VCALENDAR