BEGIN:VCALENDAR
VERSION:2.0
CALSCALE:GREGORIAN
PRODID:-//WordPress//RSVPMaker//EN
METHOD:REQUEST
BEGIN:VEVENT
DTSTAMP:20260425T210415Z
UID:62A7E2DA310BDB98FB0B60102A6876E2@rsvpmaker.com
SEQUENCE:0
STATUS:CONFIRMED
DTSTART:20250917T010000Z
DTEND:20250917T020000Z
LOCATION:See\: https\://dungeonsandtoast.com/rsvpmaker/game-night-7/
SUMMARY:First Encore: Prophecy of the World-Eater Campaign
DESCRIPTION:Event info\: https\://dungeonsandtoast.com/rsvpmaker/game-
 night-7/
END:VEVENT
END:VCALENDAR