BEGIN:VCALENDAR
VERSION:2.0
CALSCALE:GREGORIAN
PRODID:-//WordPress//RSVPMaker//EN
METHOD:REQUEST
BEGIN:VEVENT
DTSTAMP:20260425T210300Z
UID:E832D017315675C79731378FAD5C15E6@rsvpmaker.com
SEQUENCE:0
STATUS:CONFIRMED
DTSTART:20250927T000000Z
DTEND:20250927T010000Z
LOCATION:See\: https\://dungeonsandtoast.com/rsvpmaker/game-night-6/
SUMMARY:Game Night: Game 2
DESCRIPTION:Event info\: https\://dungeonsandtoast.com/rsvpmaker/game-
 night-6/
END:VEVENT
END:VCALENDAR