BEGIN:VCALENDAR
VERSION:2.0
CALSCALE:GREGORIAN
PRODID:-//WordPress//RSVPMaker//EN
METHOD:REQUEST
BEGIN:VEVENT
DTSTAMP:20260425T210416Z
UID:75764A6C5B5F3007D5F6ADDF322FA7F1@rsvpmaker.com
SEQUENCE:0
STATUS:CONFIRMED
DTSTART:20250830T000000Z
DTEND:20250830T010000Z
LOCATION:See\: https\://dungeonsandtoast.com/rsvpmaker/game-night-5/
SUMMARY:Game Night
DESCRIPTION:Event info\: https\://dungeonsandtoast.com/rsvpmaker/game-
 night-5/
END:VEVENT
END:VCALENDAR