BEGIN:VCALENDAR
VERSION:2.0
CALSCALE:GREGORIAN
PRODID:-//WordPress//RSVPMaker//EN
METHOD:REQUEST
BEGIN:VEVENT
DTSTAMP:20260426T032020Z
UID:FC7079C59BF3610C28028522C22F6EF8@rsvpmaker.com
SEQUENCE:0
STATUS:CONFIRMED
DTSTART:20250212T000000Z
DTEND:20250212T010000Z
LOCATION:See\: https\://dungeonsandtoast.com/rsvpmaker/game-night-4/
SUMMARY:Game Night
DESCRIPTION:Event info\: https\://dungeonsandtoast.com/rsvpmaker/game-
 night-4/
END:VEVENT
END:VCALENDAR