BEGIN:VCALENDAR
VERSION:2.0
CALSCALE:GREGORIAN
PRODID:-//WordPress//RSVPMaker//EN
METHOD:REQUEST
BEGIN:VEVENT
DTSTAMP:20260423T062129Z
UID:E6D55909288334EE7CA5C2405235661C@rsvpmaker.com
SEQUENCE:0
STATUS:CONFIRMED
DTSTART:20260425T010000Z
DTEND:20260425T050000Z
LOCATION:See\: https\://dungeonsandtoast.com/rsvpmaker/game-night-2026
 -04-24/
SUMMARY:Game Night
DESCRIPTION:Event info\: https\://dungeonsandtoast.com/rsvpmaker/game-
 night-2026-04-24/
END:VEVENT
END:VCALENDAR