BEGIN:VCALENDAR
VERSION:2.0
CALSCALE:GREGORIAN
PRODID:-//WordPress//RSVPMaker//EN
METHOD:REQUEST
BEGIN:VEVENT
DTSTAMP:20260425T224843Z
UID:50784DF47BA8C34A673FBDF3BEA1B942@rsvpmaker.com
SEQUENCE:0
STATUS:CONFIRMED
DTSTART:20250726T020000Z
DTEND:20250726T060000Z
LOCATION:See\: https\://dungeonsandtoast.com/rsvpmaker/game-night-2025
 -07-25/
SUMMARY:Game Night
DESCRIPTION:Event info\: https\://dungeonsandtoast.com/rsvpmaker/game-
 night-2025-07-25/
END:VEVENT
END:VCALENDAR