BEGIN:VCALENDAR
VERSION:2.0
CALSCALE:GREGORIAN
PRODID:-//WordPress//RSVPMaker//EN
METHOD:REQUEST
BEGIN:VEVENT
DTSTAMP:20260426T001733Z
UID:829807AA78485041F87D209B458FCDF3@rsvpmaker.com
SEQUENCE:0
STATUS:CONFIRMED
DTSTART:20250627T220000Z
DTEND:20250628T020000Z
LOCATION:See\: https\://dungeonsandtoast.com/rsvpmaker/game-night-2025
 -06-27/
SUMMARY:Game Night
DESCRIPTION:Event info\: https\://dungeonsandtoast.com/rsvpmaker/game-
 night-2025-06-27/
END:VEVENT
END:VCALENDAR