BEGIN:VCALENDAR
VERSION:2.0
CALSCALE:GREGORIAN
PRODID:-//WordPress//RSVPMaker//EN
METHOD:REQUEST
BEGIN:VEVENT
DTSTAMP:20260426T031156Z
UID:701348EB3B6B2574ACFAA8058063DC58@rsvpmaker.com
SEQUENCE:0
STATUS:CONFIRMED
DTSTART:20250531T010000Z
DTEND:20250531T050000Z
LOCATION:See\: https\://dungeonsandtoast.com/rsvpmaker/game-night-2025
 -05-30/
SUMMARY:Game Night - "Take Tea"
DESCRIPTION:Event info\: https\://dungeonsandtoast.com/rsvpmaker/game-
 night-2025-05-30/
END:VEVENT
END:VCALENDAR