BEGIN:VCALENDAR
VERSION:2.0
CALSCALE:GREGORIAN
PRODID:-//WordPress//RSVPMaker//EN
METHOD:REQUEST
BEGIN:VEVENT
DTSTAMP:20260426T032154Z
UID:97208E4CB6DE9C04B325C2185316439F@rsvpmaker.com
SEQUENCE:0
STATUS:CONFIRMED
DTSTART:20250426T020000Z
DTEND:20250426T060000Z
LOCATION:See\: https\://dungeonsandtoast.com/rsvpmaker/game-night-2025
 -04-25/
SUMMARY:Game Night
DESCRIPTION:Event info\: https\://dungeonsandtoast.com/rsvpmaker/game-
 night-2025-04-25/
END:VEVENT
END:VCALENDAR