BEGIN:VCALENDAR
VERSION:2.0
CALSCALE:GREGORIAN
PRODID:-//WordPress//RSVPMaker//EN
METHOD:REQUEST
BEGIN:VEVENT
DTSTAMP:20260426T014030Z
UID:597073E68FCEFAA6BDF39CA6B399C28C@rsvpmaker.com
SEQUENCE:0
STATUS:CONFIRMED
DTSTART:20250201T030000Z
DTEND:20250201T070000Z
LOCATION:See\: https\://dungeonsandtoast.com/rsvpmaker/game-night-2025
 -01-31/
SUMMARY:Game Night
DESCRIPTION:Event info\: https\://dungeonsandtoast.com/rsvpmaker/game-
 night-2025-01-31/
END:VEVENT
END:VCALENDAR