BEGIN:VCALENDAR
VERSION:2.0
CALSCALE:GREGORIAN
PRODID:-//WordPress//RSVPMaker//EN
METHOD:REQUEST
BEGIN:VEVENT
DTSTAMP:20260425T160931Z
UID:889B8A538B90AAB7D224BBA4306971FB@rsvpmaker.com
SEQUENCE:0
STATUS:CONFIRMED
DTSTART:20241228T030000Z
DTEND:20241228T070000Z
LOCATION:See\: https\://dungeonsandtoast.com/rsvpmaker/game-night-2024
 -12-27/
SUMMARY:Game Night
DESCRIPTION:Event info\: https\://dungeonsandtoast.com/rsvpmaker/game-
 night-2024-12-27/
END:VEVENT
END:VCALENDAR