BEGIN:VCALENDAR
VERSION:2.0
CALSCALE:GREGORIAN
PRODID:-//WordPress//RSVPMaker//EN
METHOD:REQUEST
BEGIN:VEVENT
DTSTAMP:20260425T124833Z
UID:A5F2B2528BD068E1643B5EC310CD5D8C@rsvpmaker.com
SEQUENCE:0
STATUS:CONFIRMED
DTSTART:20241130T010000Z
DTEND:20241130T020000Z
LOCATION:See\: https\://dungeonsandtoast.com/rsvpmaker/game-night-2024
 -11-29/
SUMMARY:Game Night
DESCRIPTION:Event info\: https\://dungeonsandtoast.com/rsvpmaker/game-
 night-2024-11-29/
END:VEVENT
END:VCALENDAR