BEGIN:VCALENDAR
VERSION:2.0
CALSCALE:GREGORIAN
PRODID:-//WordPress//RSVPMaker//EN
METHOD:REQUEST
BEGIN:VEVENT
DTSTAMP:20260425T224843Z
UID:FC9E5C39356354A60D33CA59499913CA@rsvpmaker.com
SEQUENCE:0
STATUS:CONFIRMED
DTSTART:20241026T020000Z
DTEND:20241026T060000Z
LOCATION:See\: https\://dungeonsandtoast.com/rsvpmaker/game-night-2024
 -10-25/
SUMMARY:Game Night
DESCRIPTION:Event info\: https\://dungeonsandtoast.com/rsvpmaker/game-
 night-2024-10-25/
END:VEVENT
END:VCALENDAR