BEGIN:VCALENDAR
VERSION:2.0
CALSCALE:GREGORIAN
PRODID:-//WordPress//RSVPMaker//EN
METHOD:REQUEST
BEGIN:VEVENT
DTSTAMP:20260426T031335Z
UID:B458201027EB55A7A6DCB41B0AF61993@rsvpmaker.com
SEQUENCE:0
STATUS:CONFIRMED
DTSTART:20241016T230000Z
DTEND:20241017T000000Z
LOCATION:See\: https\://dungeonsandtoast.com/rsvpmaker/game-night-2024
 -10-16/
SUMMARY:The Search Begins, Encore
DESCRIPTION:Event info\: https\://dungeonsandtoast.com/rsvpmaker/game-
 night-2024-10-16/
END:VEVENT
END:VCALENDAR