BEGIN:VCALENDAR
VERSION:2.0
CALSCALE:GREGORIAN
PRODID:-//WordPress//RSVPMaker//EN
METHOD:REQUEST
BEGIN:VEVENT
DTSTAMP:20260426T001623Z
UID:AFC2637129AD904485E07D2C0E6B0688@rsvpmaker.com
SEQUENCE:0
STATUS:CONFIRMED
DTSTART:20240427T020000Z
DTEND:20240427T060000Z
LOCATION:See\: https\://dungeonsandtoast.com/rsvpmaker/game-night-2024
 -04-26/
SUMMARY:The Burden of Fluffy
DESCRIPTION:Event info\: https\://dungeonsandtoast.com/rsvpmaker/game-
 night-2024-04-26/
END:VEVENT
END:VCALENDAR